BEGIN:VCALENDAR
VERSION:2.0
PRODID:-//Chamber Music Charleston - ECPv4.6.25//NONSGML v1.0//EN
CALSCALE:GREGORIAN
METHOD:PUBLISH
X-WR-CALNAME:Chamber Music Charleston
X-ORIGINAL-URL:https://www.chambermusiccharleston.org
X-WR-CALDESC:Events for Chamber Music Charleston
BEGIN:VEVENT
DTSTART;TZID=UTC+0:20180923T150000
DTEND;TZID=UTC+0:20180923T150000
DTSTAMP:20260424T012753
CREATED:20180820T205619Z
LAST-MODIFIED:20180916T035232Z
UID:2606-1537714800-1537714800@www.chambermusiccharleston.org
SUMMARY:SUNDAY DOWNTOWN HOUSE CONCERT - McBee House
DESCRIPTION:Music for Piano Trio\nAll House Concerts are approximately an hour in length without intermission. A reception follows and the audience has the opportunity to meet the performing musicians and fellow audience members.\nHouse Concert tickets are $50 each for individual concerts. As these concerts always sell out\, advance purchase/reservation is required. \n \n\nSCHUMANN Adagio and Allegro for Cello and Piano\nPART Fratres for Violin and Piano\nMENDELSSOHN Piano Trio No. 1 in D minor\, Op. 49 \nFrances Hsieh\, violin; Timothy O’malley\, cello; Irina Pevzner\, piano \n
URL:https://www.chambermusiccharleston.org/event/downtown-house-concert-mcbee-house/
LOCATION:McBee House of the Ashley Hall School\, 172 Rutledge Avenue\, Charleston\, SC
END:VEVENT
END:VCALENDAR