BEGIN:VCALENDAR
VERSION:2.0
PRODID:-//Chamber Music Charleston - ECPv4.6.25//NONSGML v1.0//EN
CALSCALE:GREGORIAN
METHOD:PUBLISH
X-WR-CALNAME:Chamber Music Charleston
X-ORIGINAL-URL:https://www.chambermusiccharleston.org
X-WR-CALDESC:Events for Chamber Music Charleston
BEGIN:VEVENT
DTSTART;TZID=UTC+0:20190205T190000
DTEND;TZID=UTC+0:20190205T190000
DTSTAMP:20260423T193414
CREATED:20180821T161816Z
LAST-MODIFIED:20190204T200319Z
UID:2709-1549393200-1549393200@www.chambermusiccharleston.org
SUMMARY:SEABROOK ISLAND HOUSE CONCERT - The Conyers Residence
DESCRIPTION:Music for Flute\, Violin and Piano\nAll House Concerts are approximately an hour in length without intermission. A reception follows and the audience has the opportunity to meet the performing musicians and fellow audience members.\nHouse Concert tickets are $50 each for individual concerts. As these concerts always sell out\, advance purchase/reservation is required. \nwe are sorry\, but this performance is SOLD OUT \n\nHANDEL Sonata for Flute\, Violin and Piano in G minor\, Op.2 No.2\, HWV 387\nMOZART Violin Sonata No. 23 in D Major\, K. 306\nFRANCAIX “Musique de Cour” for Flute\, Violin and Piano \nJenny Weiss\, violin;  Regina Helcher Yost\, flute; Irina Pevzner\, piano\n \n
URL:https://www.chambermusiccharleston.org/event/seabrook-island-house-concert-the-conyers-residence/
LOCATION:The Conyers Residence\, 2415 Cat Tail Pond Road\, Seabrook Island\, SC\, 29455
ATTACH;FMTTYPE=image/jpeg:https://www.chambermusiccharleston.org/wp-content/uploads/2018/08/housequartet.jpg
END:VEVENT
END:VCALENDAR