BEGIN:VCALENDAR
VERSION:2.0
PRODID:-//Chamber Music Charleston - ECPv4.6.25//NONSGML v1.0//EN
CALSCALE:GREGORIAN
METHOD:PUBLISH
X-WR-CALNAME:Chamber Music Charleston
X-ORIGINAL-URL:https://www.chambermusiccharleston.org
X-WR-CALDESC:Events for Chamber Music Charleston
BEGIN:VEVENT
DTSTART;TZID=UTC+0:20190531T180000
DTEND;TZID=UTC+0:20190531T190000
DTSTAMP:20260423T141242
CREATED:20190420T180639Z
LAST-MODIFIED:20190425T045846Z
UID:3240-1559325600-1559329200@www.chambermusiccharleston.org
SUMMARY:Piccolo Spoleto Spotlight Concert Series
DESCRIPTION:A Mendelssohn Family Music Salon\nGet to know the music of Fanny and Felix Mendelssohn with Chamber Music Charleston’s “A Mendelssohn Family Music Salon.” The program will explore the music of the wildly talented 19th-century siblings. The program includes a selection of chamber songs by both Fanny and Felix followed by movements from Fanny Mendelssohn’s Piano Trio in D minor and Felix Mendelssohn’s complete Piano Trio in D minor. Chamber Music Charleston violinist Frances Hsieh\, cellist Timothy O’Mally\, pianist Irina Pevzner\, and soprano Suzanne Flemming Atwood perform the works. \nA National Chamber Music Month Activity \n \n  \n \n  \n  \nProgram: \nFanny Mendelssohn’s Piano Trio in D minor\, Op. 11 (movements 3 and 4)\nMendelssohn: 4 songs from “12 Gesänge – Op.8” for Piano and Voice\nFelix Mendelssohn’s Piano Trio No. 1 in D minor\, Op. 49 (complete) \nPerformers: \nFrances Hsieh\, violin\nTimothy O’Malley\, cello\nIrina Pevzner\, piano\nSuzanne Fleming Atwood\, soprano \n
URL:https://www.chambermusiccharleston.org/event/piccolo-spoleto-spotlight-concert-series/
LOCATION:2nd Presbyterian Church\, 342 Meeting Street\, Charleston\, SC\, United States
END:VEVENT
END:VCALENDAR