BEGIN:VCALENDAR
VERSION:2.0
PRODID:-//Chamber Music Charleston - ECPv4.6.25//NONSGML v1.0//EN
CALSCALE:GREGORIAN
METHOD:PUBLISH
X-WR-CALNAME:Chamber Music Charleston
X-ORIGINAL-URL:https://www.chambermusiccharleston.org
X-WR-CALDESC:Events for Chamber Music Charleston
BEGIN:VEVENT
DTSTART;TZID=UTC+0:20190922T150000
DTEND;TZID=UTC+0:20190922T160000
DTSTAMP:20260423T095913
CREATED:20190514T173245Z
LAST-MODIFIED:20190920T191649Z
UID:3330-1569164400-1569168000@www.chambermusiccharleston.org
SUMMARY:Downtown House Concert - The Marterer Residence
DESCRIPTION:Music for Piano Trio\nAll House Concerts are approximately an hour in length without intermission. A reception follows and the audience has the opportunity to meet the performing musicians and fellow audience members.\nHouse Concert tickets are $50 each for individual concerts. As these concerts always sell out\, advance purchase/reservation is required. \n[vc_row][vc_column][vc_btn title=”PURCHASE TICKETS” align=”left” link=”url:https%3A%2F%2Fchambermusiccharleston.secure.force.com%2Fticket%23sections_a0F1Y00001CJnYeUAL||target:%20_blank|”][vc_column_text css=”.vc_custom_1553259157218{margin-bottom: 0px !important;}”]\n\nCOLERIDGE TAYLOR Spirituals for Piano Trio\, Op. 59\nSCHUMANN Piano Trio No. 2 in F Major\, Op. 80 \nFrances Hsieh violin; Timothy O’Malley cello; Irina Pevzner piano \n  \n
URL:https://www.chambermusiccharleston.org/event/downtown-house-concert-the-marterer-residence/
LOCATION:The Marterer Residence\, 563 Quay Circle\, Charleston\, SC\, 29412
ATTACH;FMTTYPE=image/jpeg:https://www.chambermusiccharleston.org/wp-content/uploads/2019/05/pianotrio.jpg
END:VEVENT
END:VCALENDAR