BEGIN:VCALENDAR
VERSION:2.0
PRODID:-//Chamber Music Charleston - ECPv4.6.25//NONSGML v1.0//EN
CALSCALE:GREGORIAN
METHOD:PUBLISH
X-WR-CALNAME:Chamber Music Charleston
X-ORIGINAL-URL:https://www.chambermusiccharleston.org
X-WR-CALDESC:Events for Chamber Music Charleston
BEGIN:VEVENT
DTSTART;TZID=UTC+0:20200427T190000
DTEND;TZID=UTC+0:20200427T193000
DTSTAMP:20260422T231235
CREATED:20200413T225700Z
LAST-MODIFIED:20200414T034029Z
UID:3849-1588014000-1588015800@www.chambermusiccharleston.org
SUMMARY:Virtual Violin and Viola Recital
DESCRIPTION:Grab a glass of wine\, a plate of cheese or your favorite snack and settle down in the comfort of your home for a private recital. Each week a different Chamber Music Charleston musician will welcome you into their home\, where they will play some of their favorite pieces from the solo repertoire – while also giving you a glimpse into their life as a performing musician. View the performance online at https://www.youtube.com/user/ChamberMusicChs/ \nTonight’s Performance:\nJenny Weiss\, violin and Ben Weiss\, viola \nMOZART Duo for violin & viola in G major\, K423  \n  \n  \n
URL:https://www.chambermusiccharleston.org/event/virtual-violin-and-viola-recital/
END:VEVENT
END:VCALENDAR