BEGIN:VCALENDAR
VERSION:2.0
PRODID:-//Chamber Music Charleston - ECPv4.6.25//NONSGML v1.0//EN
CALSCALE:GREGORIAN
METHOD:PUBLISH
X-WR-CALNAME:Chamber Music Charleston
X-ORIGINAL-URL:https://www.chambermusiccharleston.org
X-WR-CALDESC:Events for Chamber Music Charleston
BEGIN:VEVENT
DTSTART;TZID=UTC+0:20220315T190000
DTEND;TZID=UTC+0:20220315T200000
DTSTAMP:20260421T134237
CREATED:20210822T010233Z
LAST-MODIFIED:20220304T211408Z
UID:4808-1647370800-1647374400@www.chambermusiccharleston.org
SUMMARY:Kiawah Island House Concert
DESCRIPTION:The Art of the Oboe\nTuesday\, March 15\, 2022 at 7pm  \nThe Chapel at the Sanctuary\, 1 Sanctuary Beach Dr\, Kiawah Island \nBRITTEN Phantasy Quartet for Oboe and Strings\nSIBELIUS Duo for Violin and Viola\nMORRICONE Gabriel’s Oboe from “The Mission” for Oboe and String Trio \nZac Hammond\, oboe; Jenny Weiss\, violin; Ben Weiss\, viola; Tim O’Malley\, cello \nLIMITED TICKETS AVAILABLE: $50 EACH\n \n[vc_btn title=”PURCHASE TICKETS” style=”custom” custom_background=”#bf6737″ custom_text=”#ffffff” shape=”square” link=”url:https%3A%2F%2Fchambermusiccharleston.secure.force.com%2Fticket%2F%23%2Finstances%2Fa0F1Y00001G5uFrUAJ||target:%20_blank|”]\n
URL:https://www.chambermusiccharleston.org/event/kiawah-island-house-concert-11/
ATTACH;FMTTYPE=image/jpeg:https://www.chambermusiccharleston.org/wp-content/uploads/2020/05/quarrtetslide.jpg
END:VEVENT
END:VCALENDAR