BEGIN:VCALENDAR
VERSION:2.0
PRODID:-//Chamber Music Charleston - ECPv4.6.25//NONSGML v1.0//EN
CALSCALE:GREGORIAN
METHOD:PUBLISH
X-WR-CALNAME:Chamber Music Charleston
X-ORIGINAL-URL:https://www.chambermusiccharleston.org
X-WR-CALDESC:Events for Chamber Music Charleston
BEGIN:VEVENT
DTSTART;TZID=UTC+0:20220318T190000
DTEND;TZID=UTC+0:20220318T203000
DTSTAMP:20260421T134109
CREATED:20210822T011613Z
LAST-MODIFIED:20220318T165512Z
UID:4822-1647630000-1647635400@www.chambermusiccharleston.org
SUMMARY:Xavier Foley Masterclass
DESCRIPTION:Friday\, March 18\, 2022 at 7pm. West Ashley Theater Center. \nMASTERCLASS WITH XAVIER FOLEY\n \nXavier Foley (bass) Xavier Foley is known for communicating his virtuosity and passion for music on the double bass\, which is rarely presented as a solo instrument. Winner of a prestigious 2018 Avery Fisher Career Grant\, he was recently recognized on New York WQXR’s “19 for 19” Artists to Watch list\, and featured on PBS Thirteen’s NYC-ARTs. \nMr. Foley will work with cello and bass students on Bach’s Suites \nThis masterclass is presented free of charge. \nParticipants: \nDecker Elam\, cello\nPeter O’Malley\, cello\nJade Williams\, cello\nDevon O’Brien\, bass \n
URL:https://www.chambermusiccharleston.org/event/cmc-two-special-event/
LOCATION:West Ashley Theater Center\, 1401 Sam Rittenberg Blvd #11\, Charleston\, SC
END:VEVENT
END:VCALENDAR