BEGIN:VCALENDAR
VERSION:2.0
PRODID:-//Chamber Music Charleston - ECPv4.6.25//NONSGML v1.0//EN
CALSCALE:GREGORIAN
METHOD:PUBLISH
X-WR-CALNAME:Chamber Music Charleston
X-ORIGINAL-URL:https://www.chambermusiccharleston.org
X-WR-CALDESC:Events for Chamber Music Charleston
BEGIN:VEVENT
DTSTART;TZID=UTC+0:20220320T150000
DTEND;TZID=UTC+0:20220320T163000
DTSTAMP:20260421T133935
CREATED:20210822T012037Z
LAST-MODIFIED:20220224T184842Z
UID:4825-1647788400-1647793800@www.chambermusiccharleston.org
SUMMARY:Ovation Concert Series Finale
DESCRIPTION:SUNDAY\, MARCH 20\, 2022 AT 3PM I  Sottile Theatre\n \nBOTTESSINI Grand Duo for Violin\, Bass and Piano\nSCHUBERT Piano Quintet in A major\, D. 667\, “Trout” \nFrancisco Fullana\, guest violinist; Xavier Foley\, guest bassist; Andrew Armstrong\, guest pianist\nBen Weiss viola; Timothy O’Malley cello [vc_btn title=”Purchase Individual Tickets ” style=”outline” color=”black” link=”url:https%3A%2F%2Fev2.evenue.net%2Fcgi-bin%2Fncommerce3%2FSEGetEventList%3FgroupCode%3DCMC2%26linkID%3Dcofc-multi%26shopperContext%3D%26caller%3D%26appCode%3D||target:%20_blank|”]\n
URL:https://www.chambermusiccharleston.org/event/ovation-concert-series-finale/
LOCATION:Sottile Theatre\, 44 George Street\, Charleston\, SC\, 29401
ATTACH;FMTTYPE=image/jpeg:https://www.chambermusiccharleston.org/wp-content/uploads/2022/02/ovationfinale.jpg
END:VEVENT
END:VCALENDAR