BEGIN:VCALENDAR
VERSION:2.0
PRODID:-//Chamber Music Charleston - ECPv4.6.25//NONSGML v1.0//EN
CALSCALE:GREGORIAN
METHOD:PUBLISH
X-WR-CALNAME:Chamber Music Charleston
X-ORIGINAL-URL:https://www.chambermusiccharleston.org
X-WR-CALDESC:Events for Chamber Music Charleston
BEGIN:VEVENT
DTSTART;TZID=UTC+0:20220508T140000
DTEND;TZID=UTC+0:20220508T170000
DTSTAMP:20260421T102949
CREATED:20210822T012609Z
LAST-MODIFIED:20210822T012609Z
UID:4837-1652018400-1652029200@www.chambermusiccharleston.org
SUMMARY:House Concert Series
DESCRIPTION:The Art of the Reed Trio\nSunday\, May 8\, 2022 at 2 and 4pm The Schneider Residence\, 2 Concord Street\nNOTE: the 4pm concert is SOLD OUT \nMOZART Divertimento in B-Flat Major\, K. 439b\, No. 1\nBRITTEN Metamorphoses\nIBERT Cinq Pieces en Trio \nZac Hammond\, oboe; Charles Messersmith\, clarinet; Sandra Nikolajevs\, bassoon\n[vc_column width=”1/4″][vc_btn title=”Purchase Sunday 2pm Ticket” style=”outline” color=”black” link=”url:https%3A%2F%2Fchambermusiccharleston.secure.force.com%2Fticket%2F%23%2Finstances%2Fa0F1Y00001G5uEtUAJ||target:%20_blank|”][vc_btn title=”Sunday 4pm SOLD OUT: request wait list” style=”outline” color=”black” link=”url:mailto%3Asandra%40chambermusiccharleston.org||target:%20_blank|”]\n
URL:https://www.chambermusiccharleston.org/event/house-concert-series/
LOCATION:The Schneider Residence\, 2 Concord Street\, Charleston\, SC
ATTACH;FMTTYPE=image/jpeg:https://www.chambermusiccharleston.org/wp-content/uploads/2020/08/ensembleslide.jpg
END:VEVENT
END:VCALENDAR