BEGIN:VCALENDAR
VERSION:2.0
PRODID:-//Chamber Music Charleston - ECPv4.6.25//NONSGML v1.0//EN
CALSCALE:GREGORIAN
METHOD:PUBLISH
X-WR-CALNAME:Chamber Music Charleston
X-ORIGINAL-URL:https://www.chambermusiccharleston.org
X-WR-CALDESC:Events for Chamber Music Charleston
BEGIN:VEVENT
DTSTART;TZID=UTC+0:20220510T190000
DTEND;TZID=UTC+0:20220510T200000
DTSTAMP:20260421T102842
CREATED:20210822T012759Z
LAST-MODIFIED:20210822T012759Z
UID:4842-1652209200-1652212800@www.chambermusiccharleston.org
SUMMARY:Kiawah Island House Concert
DESCRIPTION:The Art of the Reed Trio\nTuesday\, May 10\, 2022 at 7pm  The Clark Residence\, 54 Surfsong \nMOZART Divertimento in B-Flat Major\, K. 439b\, No. 1\nBRITTEN Metamorphoses\nIBERT Cinq Pieces en Trio \nZac Hammond\, oboe; Charles Messersmith\, clarinet; Sandra Nikolajevs\, bassoon\n[/vc_column_text][/vc_column][vc_column width=”1/4″][vc_btn title=”PURCHASE 5/10/22 TICKET” style=”outline” color=”black” link=”url:https%3A%2F%2Fchambermusiccharleston.secure.force.com%2Fticket%2F%23%2Finstances%2Fa0F1Y00001G5uFwUAJ||target:%20_blank|”][/vc_column][/vc_row]\n
URL:https://www.chambermusiccharleston.org/event/kiawah-island-house-concert-12/
ATTACH;FMTTYPE=image/jpeg:https://www.chambermusiccharleston.org/wp-content/uploads/2020/08/ensembleslide.jpg
END:VEVENT
END:VCALENDAR