BEGIN:VCALENDAR
VERSION:2.0
PRODID:-//Chamber Music Charleston - ECPv4.6.25//NONSGML v1.0//EN
CALSCALE:GREGORIAN
METHOD:PUBLISH
X-WR-CALNAME:Chamber Music Charleston
X-ORIGINAL-URL:https://www.chambermusiccharleston.org
X-WR-CALDESC:Events for Chamber Music Charleston
BEGIN:VEVENT
DTSTART;TZID=UTC+0:20220911T140000
DTEND;TZID=UTC+0:20220911T170000
DTSTAMP:20260420T234708
CREATED:20220531T233248Z
LAST-MODIFIED:20220906T223802Z
UID:5421-1662904800-1662915600@www.chambermusiccharleston.org
SUMMARY:The Art of the Wind Quintet
DESCRIPTION:The Art of the Wind Quintet\nSunday\, September 11\, 2022 at 2 and 4pm  \nSt. Johannes Lutheran Church – 48 Hassell Street \nMOZART Wind Quintet in E Flat Major\nGINESTERA Duo for Flute and Oboe\nHINDEMITH Kleine Kammermusik\, Op.24 No. \nRebecca Nagel\, oboe; Regina Helcher Yost\, flute; Charles Messersmith\, clarinet; Sandra Nikolajevs\, bassoon; Debra Sherrill Ward\, horn \nTickets:\n$5 Students/Parents\n$50 General Admission. \n50% off when use code “MOZART” upon checkout!\n[vc_btn title=”Purchase Individual Tickets” style=”outline” color=”black” link=”url:https%3A%2F%2Fchambermusiccharleston.secure.force.com%2Fticket%2F%23%2Fevents%2Fa0S5d00000TnQIYEA3||target:%20_blank|”]\n
URL:https://www.chambermusiccharleston.org/event/sunday-downtown-house-concerts/
ATTACH;FMTTYPE=image/jpeg:https://www.chambermusiccharleston.org/wp-content/uploads/2022/05/windquintetslide.jpg
END:VEVENT
END:VCALENDAR