BEGIN:VCALENDAR
VERSION:2.0
PRODID:-//Chamber Music Charleston - ECPv4.6.25//NONSGML v1.0//EN
CALSCALE:GREGORIAN
METHOD:PUBLISH
X-WR-CALNAME:Chamber Music Charleston
X-ORIGINAL-URL:https://www.chambermusiccharleston.org
X-WR-CALDESC:Events for Chamber Music Charleston
BEGIN:VEVENT
DTSTART;TZID=UTC+0:20220913T190000
DTEND;TZID=UTC+0:20220913T200000
DTSTAMP:20260420T234612
CREATED:20220531T234048Z
LAST-MODIFIED:20220907T220423Z
UID:5432-1663095600-1663099200@www.chambermusiccharleston.org
SUMMARY:Kiawah Island House Concert
DESCRIPTION:The Art of the Wind Quintet\nMOZART Wind Quintet in E Flat Major\nGINESTERA Duo for Flute and Oboe\nHINDEMITH Kleine Kammermusik\, Op.24 No. \nRebecca Nagel\, oboe; Regina Helcher Yost\, flute; Charles Messersmith\, clarinet; Sandra Nikolajevs\, bassoon; Debra Sherrill Ward\, horn \nThe Collar-Brown Residence\, 194 Sanderling Court\, Kiawah Island \n[vc_btn title=”SOLD OUT” style=”outline” color=”black”]\n
URL:https://www.chambermusiccharleston.org/event/kiawah-island-house-concert-13/
ATTACH;FMTTYPE=image/jpeg:https://www.chambermusiccharleston.org/wp-content/uploads/2022/05/windquintetslide.jpg
END:VEVENT
END:VCALENDAR