BEGIN:VCALENDAR
VERSION:2.0
PRODID:-//Chamber Music Charleston - ECPv4.6.25//NONSGML v1.0//EN
CALSCALE:GREGORIAN
METHOD:PUBLISH
X-WR-CALNAME:Chamber Music Charleston
X-ORIGINAL-URL:https://www.chambermusiccharleston.org
X-WR-CALDESC:Events for Chamber Music Charleston
BEGIN:VEVENT
DTSTART;TZID=UTC+0:20220918T150000
DTEND;TZID=UTC+0:20220918T160000
DTSTAMP:20260420T234519
CREATED:20220812T195138Z
LAST-MODIFIED:20220917T024816Z
UID:5475-1663513200-1663516800@www.chambermusiccharleston.org
SUMMARY:Ovation Concert - Series Opening Event
DESCRIPTION:\n\nTURINA AND BRAHMS\n\n\n\nGuests who purchase section “A” seating receive a special invitation to the post-concert reception in the Barnet Courtyard.\n\n\n\nSunday\, September 18\, 2022 at 3pm\n\n\n\n\n\n\n\nPROGRAM\n\n\n\n\nTURINA La Oraci n del torero Op. 34\nTURINA Serenata\, Op. 87\nBRAHMS Clarinet Quintet in b minor\, Op. 115\nIgor Begelman\, clarinet; Alejandro Bustamante\, violin; Jenny Weiss\, violin; Ben Weiss\, viola; Tim O’Malley\, cello\nClick HERE to purchase tickets. \n\n  \n\n\n\n
URL:https://www.chambermusiccharleston.org/event/ovation-concert-series-opening-event/
LOCATION:Sottile Theatre\, 44 George Street\, Charleston\, SC\, 29401
ATTACH;FMTTYPE=image/jpeg:https://www.chambermusiccharleston.org/wp-content/uploads/2022/02/michalnovak1.jpg
END:VEVENT
END:VCALENDAR