BEGIN:VCALENDAR
VERSION:2.0
PRODID:-//Chamber Music Charleston - ECPv4.6.25//NONSGML v1.0//EN
CALSCALE:GREGORIAN
METHOD:PUBLISH
X-WR-CALNAME:Chamber Music Charleston
X-ORIGINAL-URL:https://www.chambermusiccharleston.org
X-WR-CALDESC:Events for Chamber Music Charleston
BEGIN:VEVENT
DTSTART;TZID=UTC+0:20221106T150000
DTEND;TZID=UTC+0:20221106T160000
DTSTAMP:20260420T203444
CREATED:20220826T051455Z
LAST-MODIFIED:20221013T181546Z
UID:5491-1667746800-1667750400@www.chambermusiccharleston.org
SUMMARY:Ovation Concert Series
DESCRIPTION:MENDELSSOHN AND BEETHOVEN\nThe 2022-23 Ovation Concert Series continues with violinist extraordinaire Anthea Kreston joining musicians of CMC in Beethoven’s masterful Septet for Winds and Strings. \nPROGRAM \nMENDELSSOHN Two Pieces for String Quartet\nBEETHOVEN Septet in E flat Major\, Op. 20\n  \n[vc_btn title=”PURCHASE INDIVIDUAL TICKETS” style=”custom” custom_background=”#bf6737″ custom_text=”#ffffff” shape=”square” link=”url:https%3A%2F%2Fcofc.evenue.net%2Fcgi-bin%2Fncommerce3%2FSEGetEventList%3FgroupCode%3DOCSSING%26linkID%3Dcofc-multi%26shopperContext%3D%26caller%3D%26appCode%3D||target:%20_blank|”]\n
URL:https://www.chambermusiccharleston.org/event/ovation-concert-series-8/
LOCATION:Sottile Theatre\, 44 George Street\, Charleston\, SC\, 29401
ATTACH;FMTTYPE=image/jpeg:https://www.chambermusiccharleston.org/wp-content/uploads/2022/02/anthea.jpg
END:VEVENT
END:VCALENDAR