BEGIN:VCALENDAR
VERSION:2.0
PRODID:-//Chamber Music Charleston - ECPv4.6.25//NONSGML v1.0//EN
CALSCALE:GREGORIAN
METHOD:PUBLISH
X-WR-CALNAME:Chamber Music Charleston
X-ORIGINAL-URL:https://www.chambermusiccharleston.org
X-WR-CALDESC:Events for Chamber Music Charleston
BEGIN:VEVENT
DTSTART;TZID=UTC+0:20221114T193000
DTEND;TZID=UTC+0:20221114T203000
DTSTAMP:20260420T203618
CREATED:20220826T052515Z
LAST-MODIFIED:20221027T215117Z
UID:5506-1668454200-1668457800@www.chambermusiccharleston.org
SUMMARY:Downtown House Concert
DESCRIPTION:Music for Flute and Strings\nBEETHOVEN Serenade for Flute\, Violin\, and Viola in D major\, Op. 25\nREGER Serenade\, Op. 141a \nJohn Samuel Roper\, flute; Jenny Weiss\, violin; Ben Weiss\, viola \nVenue: 62 Broad Street \n[vc_btn title=”Purchase Individual Tickets” style=”outline” color=”black” link=”url:https%3A%2F%2Fchambermusiccharleston.secure.force.com%2Fticket%2F%23%2Fevents%2Fa0S5d00000TnQIYEA3||target:%20_blank|”]\n
URL:https://www.chambermusiccharleston.org/event/downtown-house-concert-22/
ATTACH;FMTTYPE=image/jpeg:https://www.chambermusiccharleston.org/wp-content/uploads/2022/08/reginabenlong-scaled.jpg
END:VEVENT
END:VCALENDAR