BEGIN:VCALENDAR
VERSION:2.0
PRODID:-//Chamber Music Charleston - ECPv4.6.25//NONSGML v1.0//EN
CALSCALE:GREGORIAN
METHOD:PUBLISH
X-WR-CALNAME:Chamber Music Charleston
X-ORIGINAL-URL:https://www.chambermusiccharleston.org
X-WR-CALDESC:Events for Chamber Music Charleston
BEGIN:VEVENT
DTSTART;TZID=America/New_York:20221219T110000
DTEND;TZID=America/New_York:20221219T120000
DTSTAMP:20260420T185247
CREATED:20220826T054959Z
LAST-MODIFIED:20221217T050821Z
UID:5517-1671447600-1671451200@www.chambermusiccharleston.org
SUMMARY:The Night Before Christmas
DESCRIPTION:Sharing the Magic of Live Music with Young Audiences\nChamber Music Charleston (CMC) is pleased to announce the launch of the Classical Kids Concert Series at Sottile Theatre. Beginning in September 2022\, CMC will present three performances of classical music combined with storytelling and stunning visual imagery tailored specifically for young audiences (recommended for ages 10 and under). Each 45-minute program includes an educational introduction to the musicians and their instruments\, songs with audience participation\, and beloved stories set to music. \nTHE NIGHT BEFORE CHRISTMAS\nMonday\, December 19\, 2022 at 11am and 1pm\n\n\n\n\n\n\n\n\nCelebrate the most magical holiday season with a special Christmas Classical Kids Concert! Favorite holiday songs fill the air and well-loved stories come to life with classical music. Musicians of Chamber Music Charleston and CMC TWO perform a variety of holiday music as actors retell classic Christmas tales such as “Snowman at Christmas”  and “The Night Before Christmas.” \n\n\n\n\n\n\n\n\n[vc_row][vc_column width=”1/3″][vc_btn title=”PURCHASE INDIVIDUAL TICKETS” style=”custom” custom_background=”#bf6737″ custom_text=”#ffffff” shape=”square” link=”url:https%3A%2F%2Fcofc.evenue.net%2Fcgi-bin%2Fncommerce3%2FSEGetEventList%3FgroupCode%3DCKCS_SING%26linkID%3Dcofc-multi%26shopperContext%3D%26caller%3D%26appCode%3D||target:%20_blank|”][/vc_column][vc_column width=”1/3″][/vc_column][/vc_row][vc_row][vc_column][/vc_column][/vc_row][vc_row][vc_column][vc_column_text css=”.vc_custom_1646015121178{margin-bottom: 0px !important;}”]\nJenny Weiss and Carolina Agrest\, violins\nBen Weiss and Riley Borkowski\, viola\nPeter O’Malley\, cello\nHarry Ding\, piano\nMatt Masie\, percussion\nLaura Ball\, actor and vocalist\nColin Waters\, actor \n
URL:https://www.chambermusiccharleston.org/event/the-night-before-christmas-2/
LOCATION:Sottile Theatre\, 44 George Street\, Charleston\, SC\, 29401
ATTACH;FMTTYPE=image/jpeg:https://www.chambermusiccharleston.org/wp-content/uploads/2022/06/christmasslide.jpg
END:VEVENT
END:VCALENDAR