BEGIN:VCALENDAR
VERSION:2.0
PRODID:-//Chamber Music Charleston - ECPv4.6.25//NONSGML v1.0//EN
CALSCALE:GREGORIAN
METHOD:PUBLISH
X-WR-CALNAME:Chamber Music Charleston
X-ORIGINAL-URL:https://www.chambermusiccharleston.org
X-WR-CALDESC:Events for Chamber Music Charleston
BEGIN:VEVENT
DTSTART;TZID=UTC+0:20230219T140000
DTEND;TZID=UTC+0:20230219T200000
DTSTAMP:20260420T155605
CREATED:20220828T161351Z
LAST-MODIFIED:20230121T205215Z
UID:5536-1676815200-1676836800@www.chambermusiccharleston.org
SUMMARY:Salon Series
DESCRIPTION:Sunday\, February 19\, 2023 with performances at 4 and 7pm\nSouth Carolina Society Hall\, 72 Meeting Street\n \nMOZART String Quartet No.20 in D major\, K.499\nBEETHOVEN String Quartet No.2\, Op.18 No.2\nFrancisco Fullana and Frances Hsieh\, violin; Ben Weiss\, viola; Timothy O’Malley\, cello \nClick HERE to purchase ticket. \n
URL:https://www.chambermusiccharleston.org/event/salon-series-8/
LOCATION:South Carolina Society Hall\, 72 Meeting Street\, Charleston\, SC
ATTACH;FMTTYPE=image/jpeg:https://www.chambermusiccharleston.org/wp-content/uploads/2022/08/applausecrop-scaled.jpg
END:VEVENT
END:VCALENDAR