BEGIN:VCALENDAR
VERSION:2.0
PRODID:-//Chamber Music Charleston - ECPv4.6.25//NONSGML v1.0//EN
CALSCALE:GREGORIAN
METHOD:PUBLISH
X-WR-CALNAME:Chamber Music Charleston
X-ORIGINAL-URL:https://www.chambermusiccharleston.org
X-WR-CALDESC:Events for Chamber Music Charleston
BEGIN:VEVENT
DTSTART;TZID=UTC+0:20230304T110000
DTEND;TZID=UTC+0:20230304T120000
DTSTAMP:20260420T155512
CREATED:20220828T162409Z
LAST-MODIFIED:20220828T162409Z
UID:5543-1677927600-1677931200@www.chambermusiccharleston.org
SUMMARY:Classical Kids Concert: Harlem's Little Blackbird
DESCRIPTION:Sharing the Magic of Live Music with Young Audiences\nThe Classical Kids Concert Series at Sottile Theatre concludes with a program about Florence Mills\, “Harlem’s Little Blackbird.” Classical Kids Concerts are performances of classical music combined with storytelling and stunning visual imagery tailored specifically for young audiences (recommended for ages 10 and under). Each 45-minute program includes an educational introduction to the musicians and their instruments\, songs with audience participation\, and beloved stories set to music. \n[vc_row][vc_column width=”1/3″][vc_btn title=”PURCHASE INDIVIDUAL TICKETS” style=”custom” custom_background=”#bf6737″ custom_text=”#ffffff” shape=”square” link=”url:https%3A%2F%2Fcofc.evenue.net%2Fcgi-bin%2Fncommerce3%2FSEGetEventList%3FgroupCode%3DCKCS_SING%26linkID%3Dcofc-multi%26shopperContext%3D%26caller%3D%26appCode%3D||target:%20_blank|”][/vc_column][vc_column width=”1/3″][/vc_column][/vc_row][vc_row][vc_column][/vc_column][/vc_row][vc_row][vc_column][vc_column_text css=”.vc_custom_1646015121178{margin-bottom: 0px !important;}”]\n  \n
URL:https://www.chambermusiccharleston.org/event/classical-kids-concert-harlems-little-blackbird/
LOCATION:Sottile Theatre\, 44 George Street\, Charleston\, SC\, 29401
ATTACH;FMTTYPE=image/jpeg:https://www.chambermusiccharleston.org/wp-content/uploads/2022/06/harlem.jpg
END:VEVENT
END:VCALENDAR