BEGIN:VCALENDAR
VERSION:2.0
PRODID:-//Chamber Music Charleston - ECPv4.6.25//NONSGML v1.0//EN
CALSCALE:GREGORIAN
METHOD:PUBLISH
X-WR-CALNAME:Chamber Music Charleston
X-ORIGINAL-URL:https://www.chambermusiccharleston.org
X-WR-CALDESC:Events for Chamber Music Charleston
BEGIN:VEVENT
DTSTART;TZID=UTC+0:20230316T190000
DTEND;TZID=UTC+0:20230316T200000
DTSTAMP:20260420T143625
CREATED:20220828T191115Z
LAST-MODIFIED:20220828T191115Z
UID:5558-1678993200-1678996800@www.chambermusiccharleston.org
SUMMARY:Bishop Gadsden House Concert
DESCRIPTION:The Art of the Piano Trio \nThursday\, March 16\, 2022 at 7pm\nThe Emge Residence\, 600 Quay Circle Flat 610 \nDEBUSSY Violin Sonata\nBLOCH Prayer for Cello and Piano\nMENDELSSOHN Piano Trio No. 2\, Opus 66 \nFrances Hsieh\, violin; Timothy O’Malley\, cello; Chee Hang See\, piano \nClick HERE for tickets. \n
URL:https://www.chambermusiccharleston.org/event/bishop-gadsden-house-concert-18/
END:VEVENT
END:VCALENDAR