BEGIN:VCALENDAR
VERSION:2.0
PRODID:-//Chamber Music Charleston - ECPv4.6.25//NONSGML v1.0//EN
CALSCALE:GREGORIAN
METHOD:PUBLISH
X-WR-CALNAME:Chamber Music Charleston
X-ORIGINAL-URL:https://www.chambermusiccharleston.org
X-WR-CALDESC:Events for Chamber Music Charleston
BEGIN:VEVENT
DTSTART;TZID=UTC+0:20230402T160000
DTEND;TZID=UTC+0:20230402T200000
DTSTAMP:20260420T131637
CREATED:20220828T191624Z
LAST-MODIFIED:20230121T205308Z
UID:5562-1680451200-1680465600@www.chambermusiccharleston.org
SUMMARY:Salon Series
DESCRIPTION:Sunday\, April 2\, 2023 with performances at 4 and 7pm\nSouth Carolina Society Hall\, 72 Meeting Street\n \nVIVALDI Chamber Concerto in D major\, RV 90\, “Il Gardellino”\nBACH Concerto for Oboe and Violin in C Minor BWV 1060r\nIBERT Two Interludes for Flute\, Violin and Harpsichord\nTELEMANN Quartet in d minor from “Tafelmusik II” TWV 43:d1 \nJenny Weiss\, violin; Regina Helcher Yost\, flute; Sandra Nikolajevs\, bassoon; Julia Harlow\, harpsichord\n \nClick HERE to Purcase Ticket \n
URL:https://www.chambermusiccharleston.org/event/salon-series-9/
LOCATION:South Carolina Society Hall\, 72 Meeting Street\, Charleston\, SC
ATTACH;FMTTYPE=image/jpeg:https://www.chambermusiccharleston.org/wp-content/uploads/2022/08/applausecrop-scaled.jpg
END:VEVENT
END:VCALENDAR