BEGIN:VCALENDAR
VERSION:2.0
PRODID:-//Chamber Music Charleston - ECPv4.6.25//NONSGML v1.0//EN
CALSCALE:GREGORIAN
METHOD:PUBLISH
X-WR-CALNAME:Chamber Music Charleston
X-ORIGINAL-URL:https://www.chambermusiccharleston.org
X-WR-CALDESC:Events for Chamber Music Charleston
BEGIN:VEVENT
DTSTART;TZID=UTC+0:20230429T163000
DTEND;TZID=UTC+0:20230429T180000
DTSTAMP:20260420T131345
CREATED:20230403T175308Z
LAST-MODIFIED:20230403T180743Z
UID:5942-1682785800-1682791200@www.chambermusiccharleston.org
SUMMARY:Spring Concert at Drayton Hall
DESCRIPTION:Chamber Music Charleston Returns to Drayton Hall\nDrayton Hall welcomes you to immerse yourself in an intimate musical conversation in the Lenhardt Garden. Chamber Music Charleston celebrates the growing season at Drayton Hall with a spring concert of works from the Baroque and Romantic period. Musicians to converse on flute\, violin\, bassoon\, and harpsichord with refreshments offered ahead of the performance. \nThis spectacular event is on April 29\, at 4:30pm\, advance registration required. \nDrayton Hall members $60\, non-members $65 \nClick HERE to purchase tickets. \n \n
URL:https://www.chambermusiccharleston.org/event/spring-concert-at-drayton-hall/
LOCATION:Drayton Hall\, 3380 Ashley River Road\, Charleston\, SC\, United States
ATTACH;FMTTYPE=image/jpeg:https://www.chambermusiccharleston.org/wp-content/uploads/2023/04/draytonhallquartet.jpg
END:VEVENT
END:VCALENDAR