BEGIN:VCALENDAR
VERSION:2.0
PRODID:-//Chamber Music Charleston - ECPv4.6.25//NONSGML v1.0//EN
CALSCALE:GREGORIAN
METHOD:PUBLISH
X-WR-CALNAME:Chamber Music Charleston
X-ORIGINAL-URL:https://www.chambermusiccharleston.org
X-WR-CALDESC:Events for Chamber Music Charleston
BEGIN:VEVENT
DTSTART;TZID=UTC-5:20231105T150000
DTEND;TZID=UTC-5:20231105T163000
DTSTAMP:20260420T024938
CREATED:20230604T201531Z
LAST-MODIFIED:20230926T214056Z
UID:6172-1699196400-1699201800@www.chambermusiccharleston.org
SUMMARY:Chamber Music with Friends
DESCRIPTION:VIOLIN\, CELLO\, & PIANO\n\n\n\nChamber Music Charleston is thrilled to welcome violinist James Ehnes to Sottile Theatre for a program of music for violin\, cello\, and piano. Gifted with a rare combination of stunning virtuosity\, serene lyricism\, and an unfaltering musicality\, James is as comfortable performing the Brahms Violin Concerto with the London Philharmonic Orchestra as he is playing the complete Violin Sonatas of Beethoven at Wigmore Hall. James will be joined by his good friend and collaborator Andrew Armstrong\, praised for his “breathtaking technique and sensitivity” by the New York Times\, and cellist Alice Yoo\, whose “warm\, rich tone and impeccable phrasing” (The Strad) have made her a sought-after performer\n\n\n\n\n\nSunday\, November 5\, 2023 at 3pm\nPROGRAM\n\nGERSHWIN “I Got Rhythm”\nSARASATE Carmen Fantasy for Violin and Piano\nARENSKY Piano Trio No. 1 in D minor\nSTILL “Three Visions” for piano solo\nGLIERE “Eight Pieces” Opus 39 for Violin and Cello\n\n\n\nClick HERE to purchase tickets\nPlease call the George Street Box Office if you have any difficulty purchasing tickets.\n843.953.GSBO (4726)\nNormal operating hours for in-person and phone service are 10 a.m. to 4 p.m. Tuesday through Friday. Our Summer operating hours for in-person and phone service are 10 a.m. to 2 p.m. Tuesday through Thursday. The box office is also open one hour prior to each performance. \n
URL:https://www.chambermusiccharleston.org/event/chamber-music-with-friends/
LOCATION:Sottile Theatre\, 44 George Street\, Charleston\, SC\, 29401
ATTACH;FMTTYPE=image/jpeg:https://www.chambermusiccharleston.org/wp-content/uploads/2023/06/ehnesslide.jpg
END:VEVENT
END:VCALENDAR