BEGIN:VCALENDAR
VERSION:2.0
PRODID:-//Chamber Music Charleston - ECPv4.6.25//NONSGML v1.0//EN
CALSCALE:GREGORIAN
METHOD:PUBLISH
X-WR-CALNAME:Chamber Music Charleston
X-ORIGINAL-URL:https://www.chambermusiccharleston.org
X-WR-CALDESC:Events for Chamber Music Charleston
BEGIN:VEVENT
DTSTART;TZID=America/New_York:20231109T190000
DTEND;TZID=America/New_York:20231109T200000
DTSTAMP:20260420T030022
CREATED:20220828T161756Z
LAST-MODIFIED:20231024T155058Z
UID:5538-1699556400-1699560000@www.chambermusiccharleston.org
SUMMARY:Special Event: Francisco Fullana and SOA Sinfonietta
DESCRIPTION:As part of the CMC Youth Chamber Music Initiative\, guest violinist Francisco Fullana joins the Charleston County School of the Arts Sinfonietta for a special performance on Thursday\, November 9th at 7pm at St. Matthew’s Lutheran Church\, 405 King Street. \nPROGRAM \nMENDELSSOHN Sinfonia #8\nTCHAIKOVSKY Andante Cantabile\nVIVALDI Autumn from The Four Seasons\nVIVALDILa Folia \nThis event is now presented free of charge with donations accepted at the door \nView a clip of last year’s performance (2nd movement of Shostakovich Chamber Symphony): https://youtu.be/HCExpq6J0UY \n  \n \n“Each year we attract world-renowned guest artists to perform alongside our professional musicians of Chamber Music Charleston for our Ovation Concerts\, and we are excited to expand this opportunity for guest artist to work with the accomplished string students at SOA\,” says Sandra Nikolajevs\, President and Artistic Director of Chamber Music Charleston. “Providing the students with the change to not only hear an artist of the caliber of Francisco Fullana\, but to work with him closely in exploring the music of Holst\, Shostakovich\, and Montgomery over the course of four days\, will create an incredible experience for the students and audience alike.” \nSpanish-born violinist Francisco Fullana\, winner of the 2018 Avery Fisher Career Grant\, is making a name for himself as both a performer and a leader of innovative educational institutions. As a soloist\, he has performed the Mendelssohn Violin Concerto with the Bayerische Philharmonie led by the late Sir Colin Davis\, the Sibelius Concerto with the Münchner Rundfunkorchester\, and the Brahms Violin Concerto with Venezuela’s Teresa Carreño Orchestra under the baton of Gustavo Dudamel. In March he will perform as soloist for Vivaldi’s Four Seasons in New York City’s Carnegie Hall with the Grammy-Award winning ensemble Apollo’s Fire. \n“Through my formative years at Juilliard and beyond\, I realized that experiences centered on active learning and collaborations with world class musicians exponentially accelerated my learning process and were life-changing\,” explains Mr. Fullana. “By working with students as equal collaborators\, one can lead the creative process through a collective effort that has transformative long-term effects in students’ artistic development.” \nThe Charleston County School of the Arts is a public Middle and High School that offers students rich and intensive instruction in eight Art majors in middle school and nine Art majors in high school. Students may apply and audition for two areas\, and once accepted into a major\, spend one-fourth of their day with dynamic teachers in that art area. Art majors include instrumental band\, creative writing\, dance\, piano\, string orchestra\, theater\, visual art and vocal music. SOA’s students excel at the local\, state and national level\, earning awards\, scholarships\, and the respect of audience members\, peers\, and patrons of the arts. \nStudents also participate in an appropriately challenging academic curriculum that includes college preparatory\, honors\, and Advanced Placement courses. Clubs\, community service\, and unique school events tailored to meet the interests of young artists\, provide additional opportunities for expression and involvement. We want our students to maximize their potential and then find out how their art can impact the world around them. \nThe SOA Sinfonietta\, under the direction of Dr. Christopher Selby\, is the select high school string ensemble made up of the most accomplished string players at the Charleston School of the Arts. They perform collegiate and professional chamber orchestra repertoire\, and many of the members continue their musical studies in college and pursue a professional career in music. \nThis project is funded in part by the South Carolina Arts Commission\, which receives support from the National Endowment for the Arts. \n
URL:https://www.chambermusiccharleston.org/event/special-event-francisco-fullana-and-soa/
LOCATION:St. Matthew’s Lutheran Church\, 405 King Street\, Charleston\, SC\, United States
ATTACH;FMTTYPE=image/jpeg:https://www.chambermusiccharleston.org/wp-content/uploads/2022/01/franciscohslide.jpg
ORGANIZER;CN="":MAILTO:nikolajevss@gmail.com
END:VEVENT
END:VCALENDAR