BEGIN:VCALENDAR
VERSION:2.0
PRODID:-//Chamber Music Charleston - ECPv4.6.25//NONSGML v1.0//EN
CALSCALE:GREGORIAN
METHOD:PUBLISH
X-WR-CALNAME:Chamber Music Charleston
X-ORIGINAL-URL:https://www.chambermusiccharleston.org
X-WR-CALDESC:Events for Chamber Music Charleston
BEGIN:VEVENT
DTSTART;TZID=UTC+0:20231117T190000
DTEND;TZID=UTC+0:20231117T200000
DTSTAMP:20260420T030206
CREATED:20230605T024751Z
LAST-MODIFIED:20231114T211831Z
UID:6202-1700247600-1700251200@www.chambermusiccharleston.org
SUMMARY:CMC TWO Fall Concert
DESCRIPTION:Come hear the next generation of great chamber musicians!\nFriday\, November 17\, 2023 at 7pm  \nBEETHOVEN String Quartet No. 1 in F\, Op. 18\, No. 1\,\nAllegro con Brio \nAva Whitener and Elijah Liu\, Violins; Ben Weiss\, Viola/Coach; Myles Owens-Walker\, Cello \nDOHNYANI Serenade\, Op. 10\nMarcia \nKatie Marks\, Violin; Natalie Gizzo\, Viola; Maxwell Winters\, Cello \nHAYDN String Quartet Opus 33\, No. 3 “The Bird”\nFinale: Rondo – presto \nCallie Williams and Nicholas Grayson \,Violins; Ben Weiss\, Viola/Coach; Abbey Morea\, Cello \nMOZART Piano Quartet in g minor\, mvt. 1\n \nAlex Lim\, Violin; Riley Borkowski \,Viola; Jade Williams\, Cello; Harry Ding\, Piano \nDVORAK Bagatelles\, Op. 47\nAllegretto scherzando\nCanon. Andante con moto\nPoco Allegro \nTrow Weeks and Elliot MacDonald\, Violins; Luciano Cusatis\, Cello; Jason Gould\, Piano \nFree with donations accepted at the door \n
URL:https://www.chambermusiccharleston.org/event/cmc-two-fall-concert-2/
LOCATION:West Ashley Theater Center\, 1401 Sam Rittenberg Blvd #11\, Charleston\, SC
ATTACH;FMTTYPE=image/jpeg:https://www.chambermusiccharleston.org/wp-content/uploads/2023/06/cmc2.jpg
END:VEVENT
END:VCALENDAR