BEGIN:VCALENDAR
VERSION:2.0
PRODID:-//Chamber Music Charleston - ECPv4.6.25//NONSGML v1.0//EN
CALSCALE:GREGORIAN
METHOD:PUBLISH
X-WR-CALNAME:Chamber Music Charleston
X-ORIGINAL-URL:https://www.chambermusiccharleston.org
X-WR-CALDESC:Events for Chamber Music Charleston
BEGIN:VEVENT
DTSTART;TZID=UTC-5:20240114T150000
DTEND;TZID=UTC-5:20240114T160000
DTSTAMP:20260419T235528
CREATED:20230610T025745Z
LAST-MODIFIED:20231102T052047Z
UID:6224-1705244400-1705248000@www.chambermusiccharleston.org
SUMMARY:Ovation Concert 2
DESCRIPTION:\n\nBASSOON AND STRINGS\n\n\n\nThe Ovation Concert series continues with a program of music for bassoon and string quartet\, led by violinist Anthea Kreston.  Additional performing musicians include Jenny Weiss\, violin; Ben Weiss\, viola; Tim O’Malley\, cello; Sandra Nikolajevs\, bassoon;.\n\n\n\n\n\n\n\n\n\nSunday\, January 14\, 2024 at 3pm\nPROGRAM\n\n\n\n\nBRUBECK Blue Rondo a la Turk\nREICHA Variations for Bassoon and String Quartet\nBRAHMS String Quartet No.1 in c minor\, Op.51\nClick HERE to purchase tickets\n\n\n\n\n
URL:https://www.chambermusiccharleston.org/event/ovation-concert-2-2/
LOCATION:Dock Street Theatre\, 135 Church St\, CHARLESTON\, SC\, 29401\, United States
ATTACH;FMTTYPE=image/jpeg:https://www.chambermusiccharleston.org/wp-content/uploads/2018/08/dockstduolong.jpg
END:VEVENT
END:VCALENDAR