BEGIN:VCALENDAR
VERSION:2.0
PRODID:-//Chamber Music Charleston - ECPv4.6.25//NONSGML v1.0//EN
CALSCALE:GREGORIAN
METHOD:PUBLISH
X-WR-CALNAME:Chamber Music Charleston
X-ORIGINAL-URL:https://www.chambermusiccharleston.org
X-WR-CALDESC:Events for Chamber Music Charleston
BEGIN:VEVENT
DTSTART;TZID=UTC-5:20240310T150000
DTEND;TZID=UTC-5:20240310T160000
DTSTAMP:20260419T205749
CREATED:20230613T200610Z
LAST-MODIFIED:20240222T195844Z
UID:6245-1710082800-1710086400@www.chambermusiccharleston.org
SUMMARY:Chamber Music with Friends
DESCRIPTION:\n\nGRAND FINALE\n\n\n\n\n\n\n\n\nThe March concert is a spectacle of sound with the sonic fireworks of clarinet\, horn\, strings\, and piano. Clarinetist Alexander Fiterstein and French horn player R.J. Kelly are joined by violinist Amy Schwarz Moretti\, violist Matt Lipman\, cellist Raphael Bell\, and pianist Andrew Armstrong to create a truly unforgettable performance. This is a rare opportunity to experience the full range of these instruments\, as they come together in perfect harmony for the grand finale of Chamber Music Charleston’s performances at Sottile Theatre.\n\n\n\n\n\n\n\n\n\n\n\n\n\n\nSunday\, March 10\, 2024 at 3pm.\nClick HERE to purchase tickets.\nPROGRAM\n\n\n\n\nRACHMANINOV Trio élégiaque No. 1 in g minor\nSAINT-SAËNS Romance\, Op. 36 for horn and piano\nCLARKE Morpheus\, for viola and piano\nHINDEMITH selection from Viola Sonata Op. 25\, No. 1\nPRICE Adoration for clarinet and piano\nGERSHWIN Prelude No. 1 in B-flat\, arranged for Clarinet and Piano\nVON DOHNÁNYI Sextet in C Major\, Op. 37\n\n\n \n\n\n
URL:https://www.chambermusiccharleston.org/event/chamber-music-with-friends-2/
LOCATION:Sottile Theatre\, 44 George Street\, Charleston\, SC\, 29401
ATTACH;FMTTYPE=image/jpeg:https://www.chambermusiccharleston.org/wp-content/uploads/2023/06/matt.jpg
END:VEVENT
END:VCALENDAR