BEGIN:VCALENDAR
VERSION:2.0
PRODID:-//Chamber Music Charleston - ECPv4.6.25//NONSGML v1.0//EN
CALSCALE:GREGORIAN
METHOD:PUBLISH
X-WR-CALNAME:Chamber Music Charleston
X-ORIGINAL-URL:https://www.chambermusiccharleston.org
X-WR-CALDESC:Events for Chamber Music Charleston
BEGIN:VEVENT
DTSTART;TZID=UTC-5:20240324T150000
DTEND;TZID=UTC-5:20240324T160000
DTSTAMP:20260419T205254
CREATED:20230613T200740Z
LAST-MODIFIED:20240314T010109Z
UID:6250-1711292400-1711296000@www.chambermusiccharleston.org
SUMMARY:Ovation Concert Series
DESCRIPTION:\n\nPIANO\,VIOLIN\, AND WINDS\n\n\n\n\n\n\n\n\nThe Ovation Concert series concludes for music for piano\, oboe\, clarinet\, bassoon\, French horn.  Our good friend\, pianist Andrew Armstrong and violinist Gabriela Diaz returns to perform with Charles Messersmith (clarinet)\, Kelly Moziek (oboe)\, Sandra Nikolajevs (bassoon)\, and Debra Sherrill Ward (horn).\n\n\n\n\n\n\n\n\n\n\n\n\n\n\nSunday\, March 24\, 2024 at 3pm\nPROGRAM\n\n\n\n\nBARTOK Contrasts\nMOZART Quintet for Piano and Winds in E flat Major\, K452\nClick HERE for tickets \n\n\n\n\n\n\n
URL:https://www.chambermusiccharleston.org/event/ovation-concert-series-11/
LOCATION:Dock Street Theatre\, 135 Church St\, CHARLESTON\, SC\, 29401\, United States
ATTACH;FMTTYPE=image/jpeg:https://www.chambermusiccharleston.org/wp-content/uploads/2023/06/andy.jpg
END:VEVENT
END:VCALENDAR