BEGIN:VCALENDAR
VERSION:2.0
PRODID:-//Chamber Music Charleston - ECPv4.6.25//NONSGML v1.0//EN
CALSCALE:GREGORIAN
METHOD:PUBLISH
X-WR-CALNAME:Chamber Music Charleston
X-ORIGINAL-URL:https://www.chambermusiccharleston.org
X-WR-CALDESC:Events for Chamber Music Charleston
BEGIN:VEVENT
DTSTART;TZID=UTC-5:20240407T140000
DTEND;TZID=UTC-5:20240407T170000
DTSTAMP:20260419T191315
CREATED:20230613T201023Z
LAST-MODIFIED:20240401T175125Z
UID:6255-1712498400-1712509200@www.chambermusiccharleston.org
SUMMARY:Salon Series
DESCRIPTION:\n\nCHAMINADE\, FAURE\, AND BEETHOVEN\n\n\n\n\n\n\n\n\nThe Salon Series concludes with a focus on music for piano and strings\nCLICK HERE TO PURCHASE TICKETS \n\n\n\n\n\n\n\n\n\n\n\n\n\n\nSunday\, April 7\, 2024 at 2 and 4pm\n\n\n\n\nCHAMINADE Capriccio\, Op.18\nFAURÉ Élégie\, Op. 24\nBEETHOVEN Piano Trio in B Flat Major\, Op. 97\, “ Archduke”\nFrances Hsieh violin l Tim O’Malley cello l Phillip Bush piano\n\n\n \n\n\n\n
URL:https://www.chambermusiccharleston.org/event/salon-series-12/
LOCATION:South Carolina Society Hall\, 72 Meeting Street\, Charleston\, SC
ATTACH;FMTTYPE=image/jpeg:https://www.chambermusiccharleston.org/wp-content/uploads/2023/06/societyhall_announce.jpg
END:VEVENT
END:VCALENDAR