BEGIN:VCALENDAR
VERSION:2.0
PRODID:-//Chamber Music Charleston - ECPv4.6.25//NONSGML v1.0//EN
CALSCALE:GREGORIAN
METHOD:PUBLISH
X-WR-CALNAME:Chamber Music Charleston
X-ORIGINAL-URL:https://www.chambermusiccharleston.org
X-WR-CALDESC:Events for Chamber Music Charleston
BEGIN:VEVENT
DTSTART;TZID=UTC+0:20240430T190000
DTEND;TZID=UTC+0:20240430T203000
DTSTAMP:20260419T173449
CREATED:20240414T195202Z
LAST-MODIFIED:20240414T195202Z
UID:6938-1714503600-1714509000@www.chambermusiccharleston.org
SUMMARY:CMC TWO Spring Concert
DESCRIPTION:Come hear the next generation of great chamber musicians!\nTuesday\, April 30\, 2024 at 7pm  \nWest Ashley Theatre Center\, 1401 Sam Rittenberg Blvd. #11 \nFREE with Donations Accepted at the Door \nselections from \nBRAHMS Piano Quintet\nSHOSTAKOVICH Piano Quintet\nSCHUMANN Piano Quintet\nBEETHOVEN “Ghost” Piano Trio\nDVORAK “American” Quartet\nSCHUBERT “Death and the Maiden” Quartet \nRiley Borkowski\, Viola; Luciano Cusatis\, Cello; Harry Ding\, Piano; Jason Gould\, Piano; Nicholas Grayson\, Violin; Alex Lim\, Violin; Elijah Liu\, Violin; Elliot MacDonald\, Violin; Abbey Morea\, Cello; Myles Owens-Walker\, Cello; Lydia Plante\, Violin; Trow Weeks\, Violin; Ava Whitener\, Violin; Callie Williams\,  Viola; Jade Williams\, Cello \n  \n
URL:https://www.chambermusiccharleston.org/event/cmc-two-spring-concert-3/
ATTACH;FMTTYPE=image/jpeg:https://www.chambermusiccharleston.org/wp-content/uploads/2023/12/cmc_two_group_photo2023falllong.jpg
END:VEVENT
END:VCALENDAR