BEGIN:VCALENDAR
VERSION:2.0
PRODID:-//Chamber Music Charleston - ECPv4.6.25//NONSGML v1.0//EN
CALSCALE:GREGORIAN
METHOD:PUBLISH
X-WR-CALNAME:Chamber Music Charleston
X-ORIGINAL-URL:https://www.chambermusiccharleston.org
X-WR-CALDESC:Events for Chamber Music Charleston
BEGIN:VEVENT
DTSTART;TZID=UTC+0:20240506T190000
DTEND;TZID=UTC+0:20240506T200000
DTSTAMP:20260419T173433
CREATED:20230613T201821Z
LAST-MODIFIED:20230613T201821Z
UID:6268-1715022000-1715025600@www.chambermusiccharleston.org
SUMMARY:Downtown House Concert Series
DESCRIPTION:\n\n\nString Quartet\nSunday\, May 5\, 2024 at 2 and 4pm  \nMonday\, May 6\, 2024 at 7:30pm   \nDVOŘÁK String Quartet No. 12 in F Major\, Op. 96\, “American”\nPRICE String Quartet in G Major\, Andante moderato\nSTILL Danzas de Panama \nJenny Weiss violin l Frances Hsieh violin l Ben Weiss viola l Timothy O’Malley cello \nCLICK HERE TO PURCHASE TICKETS \n\n\n\n
URL:https://www.chambermusiccharleston.org/event/downtown-house-concert-series/
ATTACH;FMTTYPE=image/jpeg:https://www.chambermusiccharleston.org/wp-content/uploads/2023/06/edistoquartet.jpg
END:VEVENT
END:VCALENDAR