BEGIN:VCALENDAR
VERSION:2.0
PRODID:-//Chamber Music Charleston - ECPv4.6.25//NONSGML v1.0//EN
CALSCALE:GREGORIAN
METHOD:PUBLISH
X-WR-CALNAME:Chamber Music Charleston
X-ORIGINAL-URL:https://www.chambermusiccharleston.org
X-WR-CALDESC:Events for Chamber Music Charleston
BEGIN:VEVENT
DTSTART;TZID=UTC+0:20230607T180000
DTEND;TZID=UTC+0:20230607T190000
DTSTAMP:20260420T075746
CREATED:20230421T034901Z
LAST-MODIFIED:20230421T034901Z
UID:6037-1686160800-1686164400@www.chambermusiccharleston.org
SUMMARY:CMC at Piccolo Spoleto
DESCRIPTION:The story begins with a young singer named Harry Thacker Burleigh\, who was working as a custodian at the National Conservatory in New York City during the 1890s to fulfill the requirements of his scholarship. One evening\, Antonín Dvořák\, the newly appointed director\, overheard Burleigh’s deep baritone voice singing the spirituals that his grandfather had taught him. This chance encounter marked the beginning of a remarkable friendship and Dvořák’s introduction to the world of African-American spirituals.\nChamber Music Charleston’s program brings together the music of Burleigh and Dvorak\, alongside those of other important but long-neglected composers such as Florence Price and William Grant Still. Through their music\, the program paints a vivid portrait of a distinctive\, yet classically-informed\, American sound that is rooted in the country’s diverse cultural heritage.\nFrances Hsieh and Jenny Weiss\, violins; Ben Weiss\, viola; Tim O’Malley\, cello\nPROGRAM\nDvořák String Quartet in F Major\, Op. 96\, “American”\ni. Allegro ma non troppo\nii.Lento\nBurleigh Southland Sketches for String Quartet\nPrice String Quartet No. 2 in A Minor\nii. Andante Cantabile\nStill Lyric Quartet\niii. The Jovial One\n[vc_btn title=”PURCHASE INDIVIDUAL TICKETS” style=”custom” custom_background=”#bf6737″ custom_text=”#ffffff” link=”url:https%3A%2F%2Fchambermusic.my.salesforce-sites.com%2Fticket%2F%23%2Fevents%2Fa0S5d00000c9lgWEAQ|||”]\n
URL:https://www.chambermusiccharleston.org/event/cmc-at-piccolo-spoleto-2/
ATTACH;FMTTYPE=image/jpeg:https://www.chambermusiccharleston.org/wp-content/uploads/2023/04/stringquartetmed-scaled.jpg
END:VEVENT
END:VCALENDAR