BEGIN:VCALENDAR
VERSION:2.0
PRODID:-//Chamber Music Charleston - ECPv4.6.25//NONSGML v1.0//EN
CALSCALE:GREGORIAN
METHOD:PUBLISH
X-WR-CALNAME:Chamber Music Charleston
X-ORIGINAL-URL:https://www.chambermusiccharleston.org
X-WR-CALDESC:Events for Chamber Music Charleston
BEGIN:VEVENT
DTSTART;TZID=UTC+0:20230124T190000
DTEND;TZID=UTC+0:20230124T200000
DTSTAMP:20260420T174024
CREATED:20220827T014444Z
LAST-MODIFIED:20220827T014444Z
UID:5528-1674586800-1674590400@www.chambermusiccharleston.org
SUMMARY:Kiawah Island House Concert
DESCRIPTION:Music for Viola\, Clarinet\, Bassoon and Piano\nSCHUMANN Fantasiestücke\, Op.73 for Viola and Piano\nFAURE Piano Trio in d minor\, op. 120 for Clarinet\, Viola and Piano\nGLINKA Trio Pathétique in D minor for Clarinet\, Bassoon and Piano \nJenny Weiss\, viola; Charles Messersmith\, clarinet; Sandra Nikolajevs\, bassoon; Chee Hang See\, piano \nVenue: The Rush-Baumgarten Residence\, 143 Flyway Drive \n[vc_btn title=”SOLD OUT” style=”outline” color=”black”]\n
URL:https://www.chambermusiccharleston.org/event/kiawah-island-house-concert-15/
ATTACH;FMTTYPE=image/jpeg:https://www.chambermusiccharleston.org/wp-content/uploads/2022/08/jenny_2021aedited-scaled.jpg
END:VEVENT
END:VCALENDAR