BEGIN:VCALENDAR
VERSION:2.0
PRODID:-//Chamber Music Charleston - ECPv4.6.25//NONSGML v1.0//EN
CALSCALE:GREGORIAN
METHOD:PUBLISH
X-WR-CALNAME:Chamber Music Charleston
X-ORIGINAL-URL:https://www.chambermusiccharleston.org
X-WR-CALDESC:Events for Chamber Music Charleston
BEGIN:VEVENT
DTSTART;TZID=UTC+0:20230314T190000
DTEND;TZID=UTC+0:20230314T200000
DTSTAMP:20260420T161047
CREATED:20220828T190257Z
LAST-MODIFIED:20220828T190304Z
UID:5553-1678820400-1678824000@www.chambermusiccharleston.org
SUMMARY:Kiawah Island House Concert
DESCRIPTION:The Art of the Piano Trio\nSunday\, March 12\, 2023\, at 2 and 4pm\n \nDEBUSSY Violin Sonata\nBLOCH Prayer for Cello and Piano\nMENDELSSOHN Piano Trio No. 2\, Opus 66 \nFrances Hsieh\, violin; Timothy O’Malley\, cello; Chee Hang See\, piano \nSOLD OUT. Please email sandra@chambermusiccharleston.org to be added to the wait list. \n
URL:https://www.chambermusiccharleston.org/event/kiawah-island-house-concert-16/
END:VEVENT
END:VCALENDAR