BEGIN:VCALENDAR
VERSION:2.0
PRODID:-//Chamber Music Charleston - ECPv4.6.25//NONSGML v1.0//EN
CALSCALE:GREGORIAN
METHOD:PUBLISH
X-WR-CALNAME:Chamber Music Charleston
X-ORIGINAL-URL:https://www.chambermusiccharleston.org
X-WR-CALDESC:Events for Chamber Music Charleston
BEGIN:VEVENT
DTSTART;TZID=UTC+0:20230123T193000
DTEND;TZID=UTC+0:20230123T203000
DTSTAMP:20260420T173920
CREATED:20220827T014158Z
LAST-MODIFIED:20220827T014158Z
UID:5525-1674502200-1674505800@www.chambermusiccharleston.org
SUMMARY:Monday Downtown House Concert
DESCRIPTION:Music for Viola\, Clarinet\, Bassoon and Piano\nSCHUMANN Fantasiestücke\, Op.73 for Viola and Piano\nFAURE Piano Trio in d minor\, op. 120 for Clarinet\, Viola and Piano\nGLINKA Trio Pathétique in D minor for Clarinet\, Bassoon and Piano \nJenny Weiss\, viola; Charles Messersmith\, clarinet; Sandra Nikolajevs\, bassoon; Chee Hang See\, piano \nVenue: The Lesher Residence\, 67 Rutledge Avenue \n[vc_btn title=”Purchase Individual Tickets” style=”outline” color=”black” link=”url:https%3A%2F%2Fchambermusiccharleston.secure.force.com%2Fticket%2F%23%2Fevents%2Fa0S5d00000TnQIYEA3||target:%20_blank|”]\n
URL:https://www.chambermusiccharleston.org/event/monday-downtown-house-concert-2/
ATTACH;FMTTYPE=image/jpeg:https://www.chambermusiccharleston.org/wp-content/uploads/2022/08/jenny_2021aedited-scaled.jpg
END:VEVENT
END:VCALENDAR