BEGIN:VCALENDAR
VERSION:2.0
PRODID:-//Chamber Music Charleston - ECPv4.6.25//NONSGML v1.0//EN
CALSCALE:GREGORIAN
METHOD:PUBLISH
X-WR-CALNAME:Chamber Music Charleston
X-ORIGINAL-URL:https://www.chambermusiccharleston.org
X-WR-CALDESC:Events for Chamber Music Charleston
BEGIN:VEVENT
DTSTART;TZID=UTC+0:20230924T150000
DTEND;TZID=UTC+0:20230924T160000
DTSTAMP:20260425T233251
CREATED:20230604T170844Z
LAST-MODIFIED:20230604T171350Z
UID:6129-1695567600-1695571200@www.chambermusiccharleston.org
SUMMARY:Ovation Concert 1
DESCRIPTION:  \nMUSIC FOR STRINGS\n[vc_column_text css=”.vc_custom_1681173634719{margin-top: 0px !important;margin-right: 0px !important;margin-bottom: 0px !important;margin-left: 0px !important;border-top-width: 0px !important;border-right-width: 0px !important;border-bottom-width: 0px !important;border-left-width: 0px !important;padding-top: 0px !important;padding-right: 0px !important;padding-bottom: 0px !important;padding-left: 0px !important;background-color: #ffffff !important;}”]\n\n\nSunday\, September 24\, 2023 at 3pm\nPROGRAM\n\n\n\n\nWOLF Italian Serenade\nTCHAIKOVSKY String Sextet in d minor\, “Souvenir de Florence”\, Op. 70\n\n\n[/vc_column_text][vc_empty_space][vc_btn title=”PURCHASE TICKETS” style=”custom” custom_background=”#bf6737″ custom_text=”#ffffff” shape=”square” link=”url:https%3A%2F%2Fchambermusic.my.salesforce-sites.com%2Fticket%2F%23%2Fevents%2Fa0S5d00000ZXI05EAH||target:%20_blank|”][vc_btn title=”PURCHASE SUBSCRIPTION” style=”custom” custom_background=”#bf6737″ custom_text=”#ffffff” shape=”square” link=”url:https%3A%2F%2Fchambermusic.my.salesforce-sites.com%2Fticket%2F%23%2Finstances%2Fa0F5d00001JQSxMEAX||target:%20_blank|”][vc_row][vc_column][vc_separator color=”black” border_width=”5″][/vc_column][/vc_row][vc_row][vc_column width=”1/4″][vc_single_image image=”5219″ img_size=”full”][vc_column_text css=”.vc_custom_1681173904136{margin-top: 0px !important;margin-right: 0px !important;margin-bottom: 0px !important;margin-left: 0px !important;border-top-width: 0px !important;border-right-width: 0px !important;border-bottom-width: 0px !important;border-left-width: 0px !important;padding-top: 0px !important;padding-right: 0px !important;padding-bottom: 0px !important;padding-left: 0px !important;}”]\nDANIEL CHING\n[/vc_column_text][vc_empty_space][/vc_column][vc_column width=”1/4″][vc_single_image image=”5914″ img_size=”full”][vc_column_text css=”.vc_custom_1681173962319{margin-top: 0px !important;margin-right: 0px !important;margin-bottom: 0px !important;margin-left: 0px !important;border-top-width: 0px !important;border-right-width: 0px !important;border-bottom-width: 0px !important;border-left-width: 0px !important;padding-top: 0px !important;padding-right: 0px !important;padding-bottom: 0px !important;padding-left: 0px !important;}”]\nFRANCES HSIEH\n[/vc_column_text][/vc_column][vc_column width=”1/4″][vc_single_image image=”5913″ img_size=”full”][vc_column_text css=”.vc_custom_1681173996168{margin-top: 0px !important;margin-right: 0px !important;margin-bottom: 0px !important;margin-left: 0px !important;border-top-width: 0px !important;border-right-width: 0px !important;border-bottom-width: 0px !important;border-left-width: 0px !important;padding-top: 0px !important;padding-right: 0px !important;padding-bottom: 0px !important;padding-left: 0px !important;}”]\nBEN WEISS\n[/vc_column_text][/vc_column][vc_column width=”1/4″][vc_single_image image=”5968″ img_size=”full”][vc_column_text css=”.vc_custom_1681174097253{margin-top: 0px !important;margin-right: 0px !important;margin-bottom: 0px !important;margin-left: 0px !important;border-top-width: 0px !important;border-right-width: 0px !important;border-bottom-width: 0px !important;border-left-width: 0px !important;padding-top: 0px !important;padding-right: 0px !important;padding-bottom: 0px !important;padding-left: 0px !important;}”]\nJENNY WEISS\n[/vc_column_text][/vc_column][/vc_row][vc_row][vc_column width=”1/4″][vc_single_image image=”5967″ img_size=”full”][vc_column_text css=”.vc_custom_1681173931102{margin-top: 0px !important;margin-right: 0px !important;margin-bottom: 0px !important;margin-left: 0px !important;border-top-width: 0px !important;border-right-width: 0px !important;border-bottom-width: 0px !important;border-left-width: 0px !important;padding-top: 0px !important;padding-right: 0px !important;padding-bottom: 0px !important;padding-left: 0px !important;}”]\nALAN RAFFERTY\n[/vc_column_text][/vc_column][vc_column width=”1/4″][vc_single_image image=”2878″ img_size=”full”][vc_column_text css=”.vc_custom_1645926923210{margin-top: 0px !important;margin-right: 0px !important;margin-bottom: 0px !important;margin-left: 0px !important;border-top-width: 0px !important;border-right-width: 0px !important;border-bottom-width: 0px !important;border-left-width: 0px !important;padding-top: 0px !important;padding-right: 0px !important;padding-bottom: 0px !important;padding-left: 0px !important;}”]\nTIMOTHY O’MALLEY\n[/vc_column_text][/vc_column][vc_column width=”1/2″][vc_column_text css=”.vc_custom_1681178019268{margin-bottom: 0px !important;}”]\nGuest violinist Daniel Ching of the Miro Quartet and cellist Alan Rafferty of the Cincinnati Symphony Orchestra join the musicians of CMC for the opening concert of the 23-24 Ovation Concert Series.\nSAVE THE DATE: On Friday\, September 22 Daniel Ching will hold a violin masterclass and Alan Rafferty will hold a cello masterclass. Three accomplished violinists and three accomplished cellists will be selected through an application process to participate in this special class. Stay tuned for more information!\n[/vc_column_text][vc_btn title=”LEARN MORE ABOUT THE MASTERCLASSES” style=”custom” custom_background=”#bf6737″ custom_text=”#ffffff” shape=”square” link=”url:https%3A%2F%2Fwww.chambermusiccharleston.org%2Fmasterclasses%2F||target:%20_blank|”][/vc_column][/vc_row][vc_row][vc_column][vc_separator color=”black” border_width=”5″][/vc_column][/vc_row][vc_row][vc_column][vc_column_text css=”.vc_custom_1645927115675{margin-bottom: 0px !important;}”]\nYOU MAY ALSO LIKE\n[/vc_column_text][/vc_column][/vc_row][vc_row][vc_column width=”1/3″][vc_single_image image=”5267″ img_size=”full”][vc_column_text css=”.vc_custom_1681174530829{margin-bottom: 0px !important;}”]\n\n\nSun Oct 22\, 2023 | 2 and 4PM \nSouth Carolina Society Hall\nSALON SERIES\nMOZART Piano Quartet No. 1 in g minor\, K. 478\nSCHUMANN Piano Quartet in E flat Major\, Op.47\n\n\n[/vc_column_text][vc_btn title=”LEARN MORE” style=”custom” custom_background=”#bf6737″ custom_text=”#ffffff” shape=”square” link=”url:https%3A%2F%2Fwww.chambermusiccharleston.org%2Fsalon-series%2F|||”][/vc_column][vc_column width=”1/3″][vc_single_image image=”5829″ img_size=”full”][vc_column_text css=”.vc_custom_1681174649111{margin-bottom: 0px !important;}”]\n\n\nSun Nov 5\, 2023 | 3PM \nC of C Sottile Theatre\nCHAMBER MUSIC WITH FRIENDS\nJames Ehnes\, violin; Alice Yoo\, cello; Andrew Armstrong\, piano.  Program TBA.\n\n\n[/vc_column_text][vc_btn title=”LEARN MORE” style=”custom” custom_background=”#bf6737″ custom_text=”#ffffff” shape=”square” link=”url:https%3A%2F%2Fwww.chambermusiccharleston.org%2Fchamber-music-with-friends%2F|||”][/vc_column][vc_column width=”1/3″][vc_single_image image=”5268″ img_size=”full”][vc_column_text css=”.vc_custom_1681174800702{margin-bottom: 0px !important;}”]\n\n\nSun. Nov. 12\, 2023 | 2 and 4PM \nDowntown\nHOUSE CONCERT SERIES\nDVOŘÁK Sonatina for Flute and Piano\nMARTINŮ Trio for Flute\, Cello\, and Piano\n\n\n[/vc_column_text][vc_btn title=”LEARN MORE” style=”custom” custom_background=”#bf6737″ custom_text=”#ffffff” shape=”square” link=”url:https%3A%2F%2Fwww.chambermusiccharleston.org%2Fdowntown-house-concerts-2020-2021%2F|||”][/vc_column][/vc_row]\n
URL:https://www.chambermusiccharleston.org/event/ovation-concert-1/
LOCATION:Dock Street Theatre\, 135 Church St\, CHARLESTON\, SC\, 29401\, United States
ATTACH;FMTTYPE=image/jpeg:https://www.chambermusiccharleston.org/wp-content/uploads/2023/06/dockstreet-scaled.jpg
END:VEVENT
END:VCALENDAR