BEGIN:VCALENDAR
VERSION:2.0
PRODID:-//Chamber Music Charleston - ECPv4.6.25//NONSGML v1.0//EN
CALSCALE:GREGORIAN
METHOD:PUBLISH
X-WR-CALNAME:Chamber Music Charleston
X-ORIGINAL-URL:https://www.chambermusiccharleston.org
X-WR-CALDESC:Events for Chamber Music Charleston
BEGIN:VEVENT
DTSTART;TZID=UTC+0:20181016T190000
DTEND;TZID=UTC+0:20181016T190000
DTSTAMP:20260421T101132
CREATED:20180821T015214Z
LAST-MODIFIED:20180821T015214Z
UID:2662-1539716400-1539716400@www.chambermusiccharleston.org
SUMMARY:SEABROOK ISLAND CONCERT - The Calcagno Residence
DESCRIPTION:Music for Winds\nAll House Concerts are approximately an hour in length without intermission. A reception follows and the audience has the opportunity to meet the performing musicians and fellow audience members.\nHouse Concert tickets are $50 each for individual concerts. As these concerts always sell out\, advance purchase/reservation is required. \n \n\nTELEMANN Canonic Sonata No. 2 in D Major\nJ.S. BACH Italian Concerto BWV 971 for Wind Quintet\nMOZART Serenade No. 11 for Winds in E-flat Major K. 375 \nRegina Helcher Yost\, flute; Zac Hammond\, oboe; Charles Messersmith\, clarinet; Sandra Nikolajevs\, bassoon; Debra Sherrill Ward\, horn\n \n
URL:https://www.chambermusiccharleston.org/event/seabrook-island-concert-the-calcagno-residence/
LOCATION:The Calcagno Residence\, 2871 Hidden Oak Drive\, Seabrook Island\, SC
ATTACH;FMTTYPE=image/jpeg:https://www.chambermusiccharleston.org/wp-content/uploads/2018/08/housequartet.jpg
END:VEVENT
END:VCALENDAR