BEGIN:VCALENDAR
VERSION:2.0
PRODID:-//Chamber Music Charleston - ECPv4.6.25//NONSGML v1.0//EN
CALSCALE:GREGORIAN
METHOD:PUBLISH
X-WR-CALNAME:Chamber Music Charleston
X-ORIGINAL-URL:https://www.chambermusiccharleston.org
X-WR-CALDESC:Events for Chamber Music Charleston
BEGIN:VEVENT
DTSTART;TZID=UTC+0:20211220T130000
DTEND;TZID=UTC+0:20211220T160000
DTSTAMP:20260421T130026
CREATED:20210821T231019Z
LAST-MODIFIED:20210821T231333Z
UID:4774-1640005200-1640016000@www.chambermusiccharleston.org
SUMMARY:The Night Before Christmas
DESCRIPTION:Celebrate the most magical holiday season with a special Christmas Classical Kids Concert featuring musicians of CMC and special guests. Sing along to favorite holiday songs and listen as well-loved stories come to life through classical music. \nThe Night Before Christmas returns Monday\, December 20\, 2021 at Sottile Theatre. \nPerformances at 1 and 3:30pm. \nProgram length: 45 minutes \n[vc_btn title=”PURCHASE TICKETS” style=”outline” color=”black” link=”url:https%3A%2F%2Fev2.evenue.net%2Fcgi-bin%2Fncommerce3%2FSEGetEventList%3FgroupCode%3DCMC4%26linkID%3Dcofc-multi%26shopperContext%3D%26caller%3D%26appCode%3D||target:%20_blank|”]\n
URL:https://www.chambermusiccharleston.org/event/the-night-before-christmas/
LOCATION:Sottile Theatre\, 44 George Street\, Charleston\, SC\, 29401
ATTACH;FMTTYPE=image/jpeg:https://www.chambermusiccharleston.org/wp-content/uploads/2021/08/christmas_a.jpg
END:VEVENT
END:VCALENDAR